BEGIN:VCALENDAR
VERSION:2.0
PRODID:-//Systemic Formulas &amp; Alimentum Labs - ECPv6.15.15//NONSGML v1.0//EN
CALSCALE:GREGORIAN
METHOD:PUBLISH
X-ORIGINAL-URL:https://systemicformulas.com
X-WR-CALDESC:Events for Systemic Formulas &amp; Alimentum Labs
REFRESH-INTERVAL;VALUE=DURATION:PT1H
X-Robots-Tag:noindex
X-PUBLISHED-TTL:PT1H
BEGIN:VTIMEZONE
TZID:America/Denver
BEGIN:DAYLIGHT
TZOFFSETFROM:-0700
TZOFFSETTO:-0600
TZNAME:MDT
DTSTART:20250309T090000
END:DAYLIGHT
BEGIN:STANDARD
TZOFFSETFROM:-0600
TZOFFSETTO:-0700
TZNAME:MST
DTSTART:20251102T080000
END:STANDARD
BEGIN:DAYLIGHT
TZOFFSETFROM:-0700
TZOFFSETTO:-0600
TZNAME:MDT
DTSTART:20260308T090000
END:DAYLIGHT
BEGIN:STANDARD
TZOFFSETFROM:-0600
TZOFFSETTO:-0700
TZNAME:MST
DTSTART:20261101T080000
END:STANDARD
BEGIN:DAYLIGHT
TZOFFSETFROM:-0700
TZOFFSETTO:-0600
TZNAME:MDT
DTSTART:20270314T090000
END:DAYLIGHT
BEGIN:STANDARD
TZOFFSETFROM:-0600
TZOFFSETTO:-0700
TZNAME:MST
DTSTART:20271107T080000
END:STANDARD
END:VTIMEZONE
BEGIN:VEVENT
DTSTART;VALUE=DATE:20260918
DTEND;VALUE=DATE:20260921
DTSTAMP:20260421T123823
CREATED:20260105T221011Z
LAST-MODIFIED:20260402T213512Z
UID:2655-1789689600-1789948799@systemicformulas.com
SUMMARY:NEXGEN 2026
DESCRIPTION:You must be logged in to your account to purchase a Deep Cell Recode Workshop ticket. If you do not already have an account\, please request an account here: Open An Account.
URL:https://systemicformulas.com/event/nexgen-2026/
LOCATION:Courtyard by Marriott\, Ogden\, 247 24th St\, Ogden\, UT\, 84401\, United States
ATTACH;FMTTYPE=image/jpeg:https://systemicformulas.com/wp-content/uploads/2026/02/NEXGEN-seminar-event-featured-image-5x4-1.jpg
END:VEVENT
END:VCALENDAR